BEGIN:VCALENDAR
VERSION:2.0
PRODID:-//ВТУ &quot;Тодор Каблешков&quot; - ECPv6.15.20//NONSGML v1.0//EN
CALSCALE:GREGORIAN
METHOD:PUBLISH
X-WR-CALNAME:ВТУ &quot;Тодор Каблешков&quot;
X-ORIGINAL-URL:https://www.vtu.bg/en/
X-WR-CALDESC:Events for ВТУ &quot;Тодор Каблешков&quot;
REFRESH-INTERVAL;VALUE=DURATION:PT1H
X-Robots-Tag:noindex
X-PUBLISHED-TTL:PT1H
BEGIN:VTIMEZONE
TZID:Europe/Sofia
BEGIN:DAYLIGHT
TZOFFSETFROM:+0200
TZOFFSETTO:+0300
TZNAME:EEST
DTSTART:20240331T010000
END:DAYLIGHT
BEGIN:STANDARD
TZOFFSETFROM:+0300
TZOFFSETTO:+0200
TZNAME:EET
DTSTART:20241027T010000
END:STANDARD
BEGIN:DAYLIGHT
TZOFFSETFROM:+0200
TZOFFSETTO:+0300
TZNAME:EEST
DTSTART:20250330T010000
END:DAYLIGHT
BEGIN:STANDARD
TZOFFSETFROM:+0300
TZOFFSETTO:+0200
TZNAME:EET
DTSTART:20251026T010000
END:STANDARD
BEGIN:DAYLIGHT
TZOFFSETFROM:+0200
TZOFFSETTO:+0300
TZNAME:EEST
DTSTART:20260329T010000
END:DAYLIGHT
BEGIN:STANDARD
TZOFFSETFROM:+0300
TZOFFSETTO:+0200
TZNAME:EET
DTSTART:20261025T010000
END:STANDARD
END:VTIMEZONE
BEGIN:VEVENT
DTSTART;TZID=Europe/Sofia:20250512T093000
DTEND;TZID=Europe/Sofia:20250512T190000
DTSTAMP:20260425T192859
CREATED:20250416T073629Z
LAST-MODIFIED:20250508T072046Z
UID:44972-1747042200-1747076400@www.vtu.bg
SUMMARY:YOUTH SCIENTIFIC CONFERENCE "I KNOW AND CAN – 2025"
DESCRIPTION:HIGHER SCHOOL OF TRANSPORT “TODOR KABLESHKOV”\nCENTER FOR BUSINESS PLANNING AND PROJECT MANAGEMENT STUDENT COUNCIL\norganize\nYOUTH SCIENTIFIC CONFERENCE “I KNOW AND CAN – 2025”\non May 12\, 2025\nat the campus of Higher School of Transport “Todor Kableshkov” – Sofia\nApplications for participation\, including the title of the report\, author(s)\, university\, correspondence address\, and a brief summary\, should be sent by May 10\, 2025 to the email: science@vtu.bg \nor through the registration form. \nReports (maximum length of 8 pages) should be sent to the email: science@vtu.bg by June 10\, 2025 and prepared according to the requirements here. http://www.mtc-aj.com/academic-journal.php?lang=bg&body=articles \nThe reports will be reviewed after their presentation and published in the Youth Edition “Young Forum” of the scientific journal “Mechanics Transport Communications” ISSN 1312-3823. \nWorking languages: Bulgarian\, Russian\, and English. \nParticipation fee: \n\nFor students and PhD students from the Higher School of Transport “Todor Kableshkov”\, with a report – exempt from fee\nFor students and PhD students from other universities and scientific organizations\, with a report – 50 BGN\nFor students and PhD students\, without a report – 20 BGN\n\nThe participation fee includes: \n\nPublication and printing of the reports;\nProgram of the youth scientific conference and a set of materials;\nCoffee breaks\, lunch\n\nThe participation fee should be transferred by May 9\, 2025 to the account BNB CU\, IBAN: BG48BNBG 9661 3100 1282 01\, BIC: BNBGBGSF\, or paid on the day of registration on-site. \nPRELIMINARY PROGRAM \n09:30 – 10:00 – Registration of participants\n10:00 – 10:10 – Opening of the conference\, greetings\n10:10 – 12:00 – First discussion panel\n12:00 – 13:30 – Lunch\n13:30 – 15:30 – Second discussion panel\n15:30 – 16:00 – Coffee break\n16:00 – 18:30 – Third discussion panel \nPROGRAM COMMITTEE \n \nChairman:\nProf. Dr. Eng. Krasimir Krastanov – Rector  \n  \n  \n  \n \nDeputy Chairman:\nAssoc. Prof. Dr. Eng.-Math. Nina Gergova\nDeputy Rector for NIMD \n  \n  \nMembers:\nAssoc. Prof. Dr. Eng. Econ. Julia Varadinova – Deputy Rector for Educational Activities\nProf. Dr. Eng. Georgi Pavlov – Dean of the Faculty of Communications and Electrical Equipment in Transport\nAssoc. Prof. Dr. Eng. Miryana Evtimova – Dean of the Faculty of Engineering and Construction Technologies in Transport\nAssoc. Prof. Dr. Nina Dimitrova – Dean of the Faculty of Transport Management\nNikol Kirova – Chairman of the Student Council \nORGANIZATIONAL COMMITTEE\nProf. Dr. Eng.-Econ. Daniela Todorova – “Center for Business Planning and Project Management”\nChief Assistant Dr. Violina Velyova – Expert PhD Students\nMario Velichkov – Student Council\nIveta Petkova – Student Council \nCONTACTS:\nHigher School of Transport “Todor Kableshkov”\,\nSofia\, 1574\, Geo Milev St. 158 \nE-mail: science@vtu.bg \n 
URL:https://www.vtu.bg/en/event/i-know-and-can-2025/
LOCATION:Висше транспортно училище “Тодор Каблешков”\, ул. "Гео Милев" 158\, София\, 1574\, България
CATEGORIES:Science
ATTACH;FMTTYPE=image/jpeg:https://www.vtu.bg/wp-content/uploads/2024/05/VTU-7.jpg
END:VEVENT
END:VCALENDAR